BEGIN:VCALENDAR
VERSION:2.0
PRODID:icalendar-ruby
CALSCALE:GREGORIAN
METHOD:PUBLISH
BEGIN:VEVENT
DTSTAMP:20260425T024632Z
UID:968ede5f-04b7-46b3-86c7-ef40cc3c6ec7
DTSTART;VALUE=DATE:20150717
DTEND;VALUE=DATE:20150717
DESCRIPTION:Santa Maria BMX
LOCATION:4040 Highway 101  Santa Maria CA 93455 USA
SUMMARY:Local Race Single
URL:/site/bmx_races/258107
END:VEVENT
END:VCALENDAR
