BEGIN:VCALENDAR
VERSION:2.0
PRODID:icalendar-ruby
CALSCALE:GREGORIAN
METHOD:PUBLISH
BEGIN:VEVENT
DTSTAMP:20260425T142003Z
UID:38b1023c-8d0e-4b47-b823-079f73ddad71
DTSTART;VALUE=DATE:20150325
DTEND;VALUE=DATE:20150325
DESCRIPTION:Santa Maria BMX
LOCATION:4040 Highway 101  Santa Maria CA 93455 USA
SUMMARY:Local Race Single
URL:/site/bmx_races/258058
END:VEVENT
END:VCALENDAR
