BEGIN:VCALENDAR
VERSION:2.0
PRODID:icalendar-ruby
CALSCALE:GREGORIAN
METHOD:PUBLISH
BEGIN:VEVENT
DTSTAMP:20260425T021605Z
UID:c4e90ca0-19bd-49f2-bc87-aeb980f96d4a
DTSTART;VALUE=DATE:20150228
DTEND;VALUE=DATE:20150228
DESCRIPTION:Red Hills Indoor BMX
LOCATION:Blackhawk Arena Grounds  Salina UT 84654 USA
SUMMARY:Race for Life Double
URL:/site/bmx_races/257762
END:VEVENT
END:VCALENDAR
