BEGIN:VCALENDAR
VERSION:2.0
PRODID:icalendar-ruby
CALSCALE:GREGORIAN
METHOD:PUBLISH
BEGIN:VEVENT
DTSTAMP:20260424T194614Z
UID:73e28cf5-8f94-4775-b4f4-6de199fb8df9
DTSTART;VALUE=DATE:20150718
DTEND;VALUE=DATE:20150718
DESCRIPTION:Imagination Glen BMX
LOCATION:2190 N State Rd 149  Portage IN 46304 USA
SUMMARY:Local Race Single
URL:/site/bmx_races/257548
END:VEVENT
END:VCALENDAR
