BEGIN:VCALENDAR
VERSION:2.0
PRODID:icalendar-ruby
CALSCALE:GREGORIAN
METHOD:PUBLISH
BEGIN:VEVENT
DTSTAMP:20260424T185835Z
UID:31807a42-e1d4-4713-8dd3-00d8158d8070
DTSTART;VALUE=DATE:20150823
DTEND;VALUE=DATE:20150823
DESCRIPTION:The Hill BMX
LOCATION:709 Sports Way  Elgin IL 60123 USA
SUMMARY:Gold Cup Qualifier Triple
URL:/site/bmx_races/257172
END:VEVENT
END:VCALENDAR
