BEGIN:VCALENDAR
VERSION:2.0
PRODID:icalendar-ruby
CALSCALE:GREGORIAN
METHOD:PUBLISH
BEGIN:VEVENT
DTSTAMP:20260425T035238Z
UID:0e49c8da-f909-4fce-92b7-d9d3c4c3e33b
DTSTART;VALUE=DATE:20140903
DTEND;VALUE=DATE:20140903
DESCRIPTION:Grand Prix BMX at SoCal Fair
LOCATION:18700 Lake Perris Dr  Perris CA 92571 USA
SUMMARY:Standard Single
URL:/site/bmx_races/257123
END:VEVENT
END:VCALENDAR
