BEGIN:VCALENDAR
VERSION:2.0
PRODID:icalendar-ruby
CALSCALE:GREGORIAN
METHOD:PUBLISH
BEGIN:VEVENT
DTSTAMP:20260425T035222Z
UID:b898e7f6-e112-443c-8130-9c8d79facac4
DTSTART;VALUE=DATE:20140914
DTEND;VALUE=DATE:20140914
DESCRIPTION:Wolfe Creek BMX
LOCATION:22843 Creek Road  Chatham ON  CAN
SUMMARY:Standard Single
URL:/site/bmx_races/256546
END:VEVENT
END:VCALENDAR
