BEGIN:VCALENDAR
VERSION:2.0
PRODID:icalendar-ruby
CALSCALE:GREGORIAN
METHOD:PUBLISH
BEGIN:VEVENT
DTSTAMP:20260424T154517Z
UID:688cafec-3ff6-40be-b838-2e74b7e6381e
DTSTART;VALUE=DATE:20141019
DTEND;VALUE=DATE:20141019
DESCRIPTION:Kettering BMX
LOCATION:1700 Delco Park Dr  Kettering OH 45429 USA
SUMMARY:Warnicke Double
URL:/site/bmx_races/256346
END:VEVENT
END:VCALENDAR
