BEGIN:VCALENDAR
VERSION:2.0
PRODID:icalendar-ruby
CALSCALE:GREGORIAN
METHOD:PUBLISH
BEGIN:VEVENT
DTSTAMP:20260425T105611Z
UID:dacf93b4-f71b-49bf-ba89-b466d69a7786
DTSTART;VALUE=DATE:20141213
DTEND;VALUE=DATE:20141213
DESCRIPTION:River City BMX
LOCATION:251 Ne Agness  Grants Pass OR 97526 USA
SUMMARY:Local Race Single
URL:/site/bmx_races/255613
END:VEVENT
END:VCALENDAR
