BEGIN:VCALENDAR
VERSION:2.0
PRODID:icalendar-ruby
CALSCALE:GREGORIAN
METHOD:PUBLISH
BEGIN:VEVENT
DTSTAMP:20260424T172233Z
UID:8a8cdefe-14e5-456b-83a3-fb6bb6cabed6
DTSTART;VALUE=DATE:20140815
DTEND;VALUE=DATE:20140815
DESCRIPTION:Columbia Basin BMX
LOCATION:2002 Snyder St  Richland WA 99354 USA
SUMMARY:Standard Single
URL:/site/bmx_races/255513
END:VEVENT
END:VCALENDAR
