BEGIN:VCALENDAR
VERSION:2.0
PRODID:icalendar-ruby
CALSCALE:GREGORIAN
METHOD:PUBLISH
BEGIN:VEVENT
DTSTAMP:20260425T024818Z
UID:a2a3f9b1-485d-4356-b173-7b04421ceef0
DTSTART;VALUE=DATE:20140720
DTEND;VALUE=DATE:20140720
DESCRIPTION:80/35 BMX
LOCATION:1701 E Mc Kinley Ave  Des Moines IA 50320 USA
SUMMARY:Standard Single
URL:/site/bmx_races/255507
END:VEVENT
END:VCALENDAR
