BEGIN:VCALENDAR
VERSION:2.0
PRODID:icalendar-ruby
CALSCALE:GREGORIAN
METHOD:PUBLISH
BEGIN:VEVENT
DTSTAMP:20260425T184840Z
UID:07e62f83-8cbf-4947-b62f-f382946180c6
DTSTART;VALUE=DATE:20150314
DTEND;VALUE=DATE:20150314
DESCRIPTION:Peachtree BMX
LOCATION:195 Mc Intosh Trail  Peachtree City GA 30269 USA
SUMMARY:Local Race Single
URL:/site/bmx_races/255198
END:VEVENT
END:VCALENDAR
