BEGIN:VCALENDAR
VERSION:2.0
PRODID:icalendar-ruby
CALSCALE:GREGORIAN
METHOD:PUBLISH
BEGIN:VEVENT
DTSTAMP:20260425T213546Z
UID:aa5651cc-f643-4790-a50c-e017c68a62f7
DTSTART;VALUE=DATE:20140921
DTEND;VALUE=DATE:20140921
DESCRIPTION:Emerald Coast BMX
LOCATION:126 Jet Drive Nw  Fort Walton Beach FL 32548 USA
SUMMARY:Local Race Single
URL:/site/bmx_races/254706
END:VEVENT
END:VCALENDAR
