BEGIN:VCALENDAR
VERSION:2.0
PRODID:icalendar-ruby
CALSCALE:GREGORIAN
METHOD:PUBLISH
BEGIN:VEVENT
DTSTAMP:20260424T125332Z
UID:08ff024b-415e-4c98-8b3c-23eea186c605
DTSTART;VALUE=DATE:20140831
DTEND;VALUE=DATE:20140831
DESCRIPTION:Emerald Coast BMX
LOCATION:126 Jet Drive Nw  Fort Walton Beach FL 32548 USA
SUMMARY:Local Race Single
URL:/site/bmx_races/254703
END:VEVENT
END:VCALENDAR
