BEGIN:VCALENDAR
VERSION:2.0
PRODID:icalendar-ruby
CALSCALE:GREGORIAN
METHOD:PUBLISH
BEGIN:VEVENT
DTSTAMP:20260425T190909Z
UID:3c129c1c-8c3b-4cce-8ec0-7d208b9dd022
DTSTART;VALUE=DATE:20141010
DTEND;VALUE=DATE:20141010
DESCRIPTION:Molalla River BMX
LOCATION:920 Toliver Rd  Molalla OR 97038 USA
SUMMARY:Local Race Single
URL:/site/bmx_races/254414
END:VEVENT
END:VCALENDAR
