BEGIN:VCALENDAR
VERSION:2.0
PRODID:icalendar-ruby
CALSCALE:GREGORIAN
METHOD:PUBLISH
BEGIN:VEVENT
DTSTAMP:20260424T234128Z
UID:2bc89954-a6ce-4f9b-8eab-976005b33763
DTSTART;VALUE=DATE:20150301
DTEND;VALUE=DATE:20150301
DESCRIPTION:Peninsula Indoor BMX
LOCATION:5867 Dogwood Road Se  Port Orchard WA 98367 USA
SUMMARY:Local Race Single
URL:/site/bmx_races/254026
END:VEVENT
END:VCALENDAR
