BEGIN:VCALENDAR
VERSION:2.0
PRODID:icalendar-ruby
CALSCALE:GREGORIAN
METHOD:PUBLISH
BEGIN:VEVENT
DTSTAMP:20260425T021651Z
UID:65f3bd4e-6b63-470a-80bd-80d65db4873b
DTSTART;VALUE=DATE:20140827
DTEND;VALUE=DATE:20140827
DESCRIPTION:Wolfe Creek BMX
LOCATION:22843 Creek Road  Chatham ON  CAN
SUMMARY:Local Race Single
URL:/site/bmx_races/253946
END:VEVENT
END:VCALENDAR
