BEGIN:VCALENDAR
VERSION:2.0
PRODID:icalendar-ruby
CALSCALE:GREGORIAN
METHOD:PUBLISH
BEGIN:VEVENT
DTSTAMP:20260424T180542Z
UID:3181be88-1e7d-4347-8f96-8fc3aa42bb7e
DTSTART;VALUE=DATE:20140621
DTEND;VALUE=DATE:20140621
DESCRIPTION:Hampton BMX
LOCATION:901 E Littleback River Rd  Hampton VA 23669 USA
SUMMARY:Standard Single
URL:/site/bmx_races/253358
END:VEVENT
END:VCALENDAR
