BEGIN:VCALENDAR
VERSION:2.0
PRODID:icalendar-ruby
CALSCALE:GREGORIAN
METHOD:PUBLISH
BEGIN:VEVENT
DTSTAMP:20260425T024639Z
UID:2497e756-249e-487a-ad94-a8f0e3421ab9
DTSTART;VALUE=DATE:20140427
DTEND;VALUE=DATE:20140427
DESCRIPTION:Sports Park BMX
LOCATION:6901 N Casa Grande Highway  Tucson AZ 85743 USA
SUMMARY:Standard Single
URL:/site/bmx_races/252817
END:VEVENT
END:VCALENDAR
