BEGIN:VCALENDAR
VERSION:2.0
PRODID:icalendar-ruby
CALSCALE:GREGORIAN
METHOD:PUBLISH
BEGIN:VEVENT
DTSTAMP:20260425T125540Z
UID:ae01b1ab-cda8-41f0-b733-5177d71bda9d
DTSTART;VALUE=DATE:20140702
DTEND;VALUE=DATE:20140702
DESCRIPTION:Pearland BMX
LOCATION:5657 Morning Dove Ln  Alvin TX 77511 USA
SUMMARY:Local Race Single
URL:/site/bmx_races/252767
END:VEVENT
END:VCALENDAR
