BEGIN:VCALENDAR
VERSION:2.0
PRODID:icalendar-ruby
CALSCALE:GREGORIAN
METHOD:PUBLISH
BEGIN:VEVENT
DTSTAMP:20260424T184703Z
UID:3777c770-0ec5-4b6d-b8f6-d2d815e0a552
DTSTART;VALUE=DATE:20130812
DTEND;VALUE=DATE:20130812
DESCRIPTION:Cortez BMX
LOCATION:1425 E Empire St.  Cortez CO 81321 USA
SUMMARY:Standard Single
URL:/site/bmx_races/252460
END:VEVENT
END:VCALENDAR
