BEGIN:VCALENDAR
VERSION:2.0
PRODID:icalendar-ruby
CALSCALE:GREGORIAN
METHOD:PUBLISH
BEGIN:VEVENT
DTSTAMP:20260425T121553Z
UID:97e3c2c7-8d27-4e53-93bb-b75058094e18
DTSTART;VALUE=DATE:20130915
DTEND;VALUE=DATE:20130915
DESCRIPTION:Eagle County BMX
LOCATION:1700 Bull Pasture Rd  Eagle CO 81631 USA
SUMMARY:Standard Single
URL:/site/bmx_races/251972
END:VEVENT
END:VCALENDAR
