BEGIN:VCALENDAR
VERSION:2.0
PRODID:icalendar-ruby
CALSCALE:GREGORIAN
METHOD:PUBLISH
BEGIN:VEVENT
DTSTAMP:20260425T125436Z
UID:c57d8a81-10c5-4735-b8af-c6476d51ddf4
DTSTART;VALUE=DATE:20131109
DTEND;VALUE=DATE:20131109
DESCRIPTION:Steel Wheels Indoor BMX
LOCATION:709 N Hobart Rd  Hobart IN 46350 USA
SUMMARY:Standard Single
URL:/site/bmx_races/251678
END:VEVENT
END:VCALENDAR
