BEGIN:VCALENDAR
VERSION:2.0
PRODID:icalendar-ruby
CALSCALE:GREGORIAN
METHOD:PUBLISH
BEGIN:VEVENT
DTSTAMP:20260424T212624Z
UID:d2707bd1-e664-47ef-a1e8-89617c938ff3
DTSTART;VALUE=DATE:20140611
DTEND;VALUE=DATE:20140611
DESCRIPTION:Crown Mountain BMX Park
LOCATION:501 Eagle County Drive  El Jebel CO 81623 USA
SUMMARY:Local Race Single
URL:/site/bmx_races/251143
END:VEVENT
END:VCALENDAR
