BEGIN:VCALENDAR
VERSION:2.0
PRODID:icalendar-ruby
CALSCALE:GREGORIAN
METHOD:PUBLISH
BEGIN:VEVENT
DTSTAMP:20260424T190030Z
UID:c4fddb44-106e-4943-b7ea-182f14fc7cb2
DTSTART;VALUE=DATE:20140815
DTEND;VALUE=DATE:20140815
DESCRIPTION:Skyline BMX
LOCATION:700 N Cemetery Rd  Gunnison UT 84634 USA
SUMMARY:Local Race Single
URL:/site/bmx_races/250788
END:VEVENT
END:VCALENDAR
