BEGIN:VCALENDAR
VERSION:2.0
PRODID:icalendar-ruby
CALSCALE:GREGORIAN
METHOD:PUBLISH
BEGIN:VEVENT
DTSTAMP:20260425T103356Z
UID:e2eab849-e749-45bd-8813-69ac35e9a78a
DTSTART;VALUE=DATE:20140823
DTEND;VALUE=DATE:20140823
DESCRIPTION:Oldsmar BMX Supercross
LOCATION:Oldsmar Sports Complex 3120 Tampa Road Oldsmar FL 34677 USA
SUMMARY:Local Race Single
URL:/site/bmx_races/250714
END:VEVENT
END:VCALENDAR
