BEGIN:VCALENDAR
VERSION:2.0
PRODID:icalendar-ruby
CALSCALE:GREGORIAN
METHOD:PUBLISH
BEGIN:VEVENT
DTSTAMP:20260425T010639Z
UID:2d19e835-720a-47f7-b4d6-4b05abeb8c1b
DTSTART;VALUE=DATE:20140914
DTEND;VALUE=DATE:20140914
DESCRIPTION:80/35 BMX
LOCATION:1701 E Mc Kinley Ave  Des Moines IA 50320 USA
SUMMARY:Local Race Single
URL:/site/bmx_races/250366
END:VEVENT
END:VCALENDAR
