BEGIN:VCALENDAR
VERSION:2.0
PRODID:icalendar-ruby
CALSCALE:GREGORIAN
METHOD:PUBLISH
BEGIN:VEVENT
DTSTAMP:20260420T012554Z
UID:9ae23d11-6e93-4a02-9cd0-7b52044b1e39
DTSTART;VALUE=DATE:20010923
DTEND;VALUE=DATE:20010923
DESCRIPTION:Lakes Area BMX
LOCATION:10415 Town Hall Street  Brainerd MN 56401 USA
SUMMARY:Standard Single
URL:/site/bmx_races/248764
END:VEVENT
END:VCALENDAR
