BEGIN:VCALENDAR
VERSION:2.0
PRODID:icalendar-ruby
CALSCALE:GREGORIAN
METHOD:PUBLISH
BEGIN:VEVENT
DTSTAMP:20260420T051720Z
UID:f3bb450c-31f6-4238-89cb-4aed6c061648
DTSTART;VALUE=DATE:20010612
DTEND;VALUE=DATE:20010612
DESCRIPTION:Lakes Area BMX
LOCATION:10415 Town Hall Street  Brainerd MN 56401 USA
SUMMARY:Standard Single
URL:/site/bmx_races/246346
END:VEVENT
END:VCALENDAR
