BEGIN:VCALENDAR
VERSION:2.0
PRODID:icalendar-ruby
CALSCALE:GREGORIAN
METHOD:PUBLISH
BEGIN:VEVENT
DTSTAMP:20260421T094924Z
UID:ffcd193d-2bc2-4c1e-9acf-765190aed30e
DTSTART;VALUE=DATE:20011020
DTEND;VALUE=DATE:20011020
DESCRIPTION:Brighton BMX
LOCATION:414 N Maple St  Brighton IL 62012 USA
SUMMARY:Standard Single
URL:/site/bmx_races/242547
END:VEVENT
END:VCALENDAR
