BEGIN:VCALENDAR
VERSION:2.0
PRODID:icalendar-ruby
CALSCALE:GREGORIAN
METHOD:PUBLISH
BEGIN:VEVENT
DTSTAMP:20260424T172951Z
UID:1508ac78-abde-4203-933a-b9f92580258d
DTSTART;VALUE=DATE:20011007
DTEND;VALUE=DATE:20011007
DESCRIPTION:Silver Dollar BMX
LOCATION:2352 Dr. Martin Luther King Jr. Parkway  Chico CA 95928 USA
SUMMARY:Standard Double
URL:/site/bmx_races/241441
END:VEVENT
END:VCALENDAR
