BEGIN:VCALENDAR
VERSION:2.0
PRODID:icalendar-ruby
CALSCALE:GREGORIAN
METHOD:PUBLISH
BEGIN:VEVENT
DTSTAMP:20260420T162153Z
UID:cddf8bf8-3dda-427e-9aed-7f65a78bc8cf
DTSTART;VALUE=DATE:20011119
DTEND;VALUE=DATE:20011119
DESCRIPTION:Umpqua Valley BMX
LOCATION:140 Hult Ave  Dillard OR 97432 USA
SUMMARY:Standard Single
URL:/site/bmx_races/239427
END:VEVENT
END:VCALENDAR
