BEGIN:VCALENDAR
VERSION:2.0
PRODID:icalendar-ruby
CALSCALE:GREGORIAN
METHOD:PUBLISH
BEGIN:VEVENT
DTSTAMP:20260426T032335Z
UID:ae58e9d4-fd92-4a08-9faa-67c90ad0d710
DTSTART;VALUE=DATE:20020628
DTEND;VALUE=DATE:20020628
DESCRIPTION:Chandler BMX
LOCATION:298 S Mc Queen Rd  Chandler AZ 85225 USA
SUMMARY:Standard Single
URL:/site/bmx_races/238614
END:VEVENT
END:VCALENDAR
