BEGIN:VCALENDAR
VERSION:2.0
PRODID:icalendar-ruby
CALSCALE:GREGORIAN
METHOD:PUBLISH
BEGIN:VEVENT
DTSTAMP:20260420T133903Z
UID:f7d30099-b7b5-4b11-9f9f-23f127ee52f5
DTSTART;VALUE=DATE:20021203
DTEND;VALUE=DATE:20021203
DESCRIPTION:Brighton BMX
LOCATION:414 N Maple St  Brighton IL 62012 USA
SUMMARY:Standard Single
URL:/site/bmx_races/237149
END:VEVENT
END:VCALENDAR
