BEGIN:VCALENDAR
VERSION:2.0
PRODID:icalendar-ruby
CALSCALE:GREGORIAN
METHOD:PUBLISH
BEGIN:VEVENT
DTSTAMP:20260420T175438Z
UID:db7e1e3e-4c0a-4809-8c92-26de7e49cf05
DTSTART;VALUE=DATE:20020905
DTEND;VALUE=DATE:20020905
DESCRIPTION:Brighton BMX
LOCATION:414 N Maple St  Brighton IL 62012 USA
SUMMARY:Standard Single
URL:/site/bmx_races/236229
END:VEVENT
END:VCALENDAR
