BEGIN:VCALENDAR
VERSION:2.0
PRODID:icalendar-ruby
CALSCALE:GREGORIAN
METHOD:PUBLISH
BEGIN:VEVENT
DTSTAMP:20260424T202436Z
UID:51c7beaf-5598-4872-8eb8-d56e4e25d800
DTSTART;VALUE=DATE:20020530
DTEND;VALUE=DATE:20020530
DESCRIPTION:Lone Star BMX
LOCATION:3950 Eisenhauer Rd  San Antonio TX 78218 USA
SUMMARY:Standard Single
URL:/site/bmx_races/236022
END:VEVENT
END:VCALENDAR
