BEGIN:VCALENDAR
VERSION:2.0
PRODID:icalendar-ruby
CALSCALE:GREGORIAN
METHOD:PUBLISH
BEGIN:VEVENT
DTSTAMP:20260420T080540Z
UID:9f614540-b178-4925-9492-28eca8a94d74
DTSTART;VALUE=DATE:20020512
DTEND;VALUE=DATE:20020512
DESCRIPTION:Umpqua Valley BMX
LOCATION:140 Hult Ave  Dillard OR 97432 USA
SUMMARY:Standard Single
URL:/site/bmx_races/233669
END:VEVENT
END:VCALENDAR
