BEGIN:VCALENDAR
VERSION:2.0
PRODID:icalendar-ruby
CALSCALE:GREGORIAN
METHOD:PUBLISH
BEGIN:VEVENT
DTSTAMP:20260425T180514Z
UID:8438951b-0e7a-4ab3-badd-1e4654375e7b
DTSTART;VALUE=DATE:20021102
DTEND;VALUE=DATE:20021102
DESCRIPTION:First State BMX
LOCATION:1045 N Walnut St  Milford DE 19963 USA
SUMMARY:Standard Single
URL:/site/bmx_races/233092
END:VEVENT
END:VCALENDAR
