BEGIN:VCALENDAR
VERSION:2.0
PRODID:icalendar-ruby
CALSCALE:GREGORIAN
METHOD:PUBLISH
BEGIN:VEVENT
DTSTAMP:20260420T052255Z
UID:3e475a3e-ac2b-4df5-9a12-c0ee0691736d
DTSTART;VALUE=DATE:20020728
DTEND;VALUE=DATE:20020728
DESCRIPTION:Umpqua Valley BMX
LOCATION:140 Hult Ave  Dillard OR 97432 USA
SUMMARY:Standard Single
URL:/site/bmx_races/232786
END:VEVENT
END:VCALENDAR
