BEGIN:VCALENDAR
VERSION:2.0
PRODID:icalendar-ruby
CALSCALE:GREGORIAN
METHOD:PUBLISH
BEGIN:VEVENT
DTSTAMP:20260420T011745Z
UID:cee3c2a3-2b93-4ecb-a8a2-30c9c71d70d1
DTSTART;VALUE=DATE:20021013
DTEND;VALUE=DATE:20021013
DESCRIPTION:Umpqua Valley BMX
LOCATION:140 Hult Ave  Dillard OR 97432 USA
SUMMARY:Standard Single
URL:/site/bmx_races/229105
END:VEVENT
END:VCALENDAR
