BEGIN:VCALENDAR
VERSION:2.0
PRODID:icalendar-ruby
CALSCALE:GREGORIAN
METHOD:PUBLISH
BEGIN:VEVENT
DTSTAMP:20260424T202327Z
UID:4d245b42-84a4-4afa-afbe-14937054e5f1
DTSTART;VALUE=DATE:20031004
DTEND;VALUE=DATE:20031004
DESCRIPTION:Reno Battleborn BMX
LOCATION:Sun Valley Gid Community Park 115 W 6th Ave Sun Valley NV 89433 US
 A
SUMMARY:Standard Single
URL:/site/bmx_races/227232
END:VEVENT
END:VCALENDAR
