BEGIN:VCALENDAR
VERSION:2.0
PRODID:icalendar-ruby
CALSCALE:GREGORIAN
METHOD:PUBLISH
BEGIN:VEVENT
DTSTAMP:20260420T024623Z
UID:4aa1941c-3c4c-47a2-9031-b8fcfbe7ddc6
DTSTART;VALUE=DATE:20030821
DTEND;VALUE=DATE:20030821
DESCRIPTION:Brighton BMX
LOCATION:414 N Maple St  Brighton IL 62012 USA
SUMMARY:Standard Single
URL:/site/bmx_races/225236
END:VEVENT
END:VCALENDAR
