BEGIN:VCALENDAR
VERSION:2.0
PRODID:icalendar-ruby
CALSCALE:GREGORIAN
METHOD:PUBLISH
BEGIN:VEVENT
DTSTAMP:20260421T023848Z
UID:35206cd1-c17a-46b2-91c3-2531ee5baa4a
DTSTART;VALUE=DATE:20030912
DTEND;VALUE=DATE:20030912
DESCRIPTION:Whip City BMX
LOCATION:137 Russellville Road Westfield  Westfield MA 1085 USA
SUMMARY:Standard Single
URL:/site/bmx_races/224086
END:VEVENT
END:VCALENDAR
