BEGIN:VCALENDAR
VERSION:2.0
PRODID:icalendar-ruby
CALSCALE:GREGORIAN
METHOD:PUBLISH
BEGIN:VEVENT
DTSTAMP:20260424T184713Z
UID:d6e36378-8f12-42cb-8feb-ac4fc89006e7
DTSTART;VALUE=DATE:20030817
DTEND;VALUE=DATE:20030817
DESCRIPTION:St. Peters BMX
LOCATION:100 Brown Rd  St. Peters MO 63376 USA
SUMMARY:Qualifier Triple
URL:/site/bmx_races/221699
END:VEVENT
END:VCALENDAR
