BEGIN:VCALENDAR
VERSION:2.0
PRODID:icalendar-ruby
CALSCALE:GREGORIAN
METHOD:PUBLISH
BEGIN:VEVENT
DTSTAMP:20260424T082114Z
UID:0ed92126-2fc4-42c3-897a-d70fe65c85c4
DTSTART;VALUE=DATE:20030622
DTEND;VALUE=DATE:20030622
DESCRIPTION:Twin Silo BMX
LOCATION:5400 Ziegler Rd.   Ft Collins CO 80528 USA
SUMMARY:Standard Double
URL:/site/bmx_races/221151
END:VEVENT
END:VCALENDAR
