BEGIN:VCALENDAR
VERSION:2.0
PRODID:icalendar-ruby
CALSCALE:GREGORIAN
METHOD:PUBLISH
BEGIN:VEVENT
DTSTAMP:20260424T233959Z
UID:ad9c562d-d186-45f5-a45c-c9c278db7f4a
DTSTART;VALUE=DATE:20030720
DTEND;VALUE=DATE:20030720
DESCRIPTION:Chesapeake BMX
LOCATION:726 Donaldson Avenue  Severn MD 21144 USA
SUMMARY:Standard Single
URL:/site/bmx_races/219567
END:VEVENT
END:VCALENDAR
