BEGIN:VCALENDAR
VERSION:2.0
PRODID:icalendar-ruby
CALSCALE:GREGORIAN
METHOD:PUBLISH
BEGIN:VEVENT
DTSTAMP:20260424T105743Z
UID:718c8b31-6c4e-4b5d-884d-fdaee74d2579
DTSTART;VALUE=DATE:20030629
DTEND;VALUE=DATE:20030629
DESCRIPTION:Hodag BMX
LOCATION:995 Lynne St  Rhinelander WI 54501 USA
SUMMARY:Standard Double
URL:/site/bmx_races/219416
END:VEVENT
END:VCALENDAR
