BEGIN:VCALENDAR
VERSION:2.0
PRODID:icalendar-ruby
CALSCALE:GREGORIAN
METHOD:PUBLISH
BEGIN:VEVENT
DTSTAMP:20260424T194731Z
UID:8e9513b2-5eca-4402-8ad7-8c1b25a8a3e7
DTSTART;VALUE=DATE:20030517
DTEND;VALUE=DATE:20030517
DESCRIPTION:The Hill BMX
LOCATION:709 Sports Way  Elgin IL 60123 USA
SUMMARY:Race For Life Double
URL:/site/bmx_races/218467
END:VEVENT
END:VCALENDAR
