BEGIN:VCALENDAR
VERSION:2.0
PRODID:icalendar-ruby
CALSCALE:GREGORIAN
METHOD:PUBLISH
BEGIN:VEVENT
DTSTAMP:20260419T153701Z
UID:328df6f4-ba5b-4ffa-ba2e-125c1e7257db
DTSTART;VALUE=DATE:20030504
DTEND;VALUE=DATE:20030504
DESCRIPTION:Umpqua Valley BMX
LOCATION:140 Hult Ave  Dillard OR 97432 USA
SUMMARY:Standard Single
URL:/site/bmx_races/217488
END:VEVENT
END:VCALENDAR
