BEGIN:VCALENDAR
VERSION:2.0
PRODID:icalendar-ruby
CALSCALE:GREGORIAN
METHOD:PUBLISH
BEGIN:VEVENT
DTSTAMP:20260425T231621Z
UID:1f998f28-df8e-44d2-bcaa-7fdde78557c9
DTSTART;VALUE=DATE:20040912
DTEND;VALUE=DATE:20040912
DESCRIPTION:Chesapeake BMX
LOCATION:726 Donaldson Avenue  Severn MD 21144 USA
SUMMARY:Final Triple
URL:/site/bmx_races/216631
END:VEVENT
END:VCALENDAR
